BEGIN:VCALENDAR
VERSION:2.0
PRODID:-//wp-events-plugin.com//7.2.3.1//EN
BEGIN:VEVENT
UID:2190@gildeleiden.nl
DTSTART;TZID=Europe/Amsterdam:20250427T110000
DTEND;TZID=Europe/Amsterdam:20250427T130000
DTSTAMP:20250423T213019Z
URL:https://gildeleiden.nl/wandelingen/bevrijdingswandeling-27-april/
SUMMARY:Bevrijdingswandeling 27 april
DESCRIPTION:In het kader van 80 jaar Bevrijding wordt een Bevrijdingswandel
 ing georganiseerd door Gilde Leiden Stadswandelingen. Deze begint op de ho
 ek Plantage-Utrechtse Veer en eindigt op het Kort Rapenburg\; duur ongevee
 r twee uur. De gids volgt de route van de bevrijders op 8 mei 1945 en zal 
 bij veel panden aan die route vertellen over de functies die deze in die t
 ijd hadden\, zoals gaarkeuken of uitdeelpost van voedsel\, huisvesting voo
 r instanties van Duitsers\, NSB\, Binnenlandse Strijdkrachten of Militair 
 Gezag.\n\nData:\nzondag 27 april 11:00 uur\, volgeboekt\nvrijdag 2 mei 11:
 00 uur\, volgeboekt\nzondag 4 mei 14:00 uur\, volgeboekt\nwoensdag 7 mei 1
 1:00 uur.\n\nKosten zes euro per persoon (volwassene) contant te voldoen a
 an de gids.\nAanmelden uitsluitend door op de betreffende datum te klikken
LOCATION:hoek Plantage-Utrechtse Veer\, Utrechtseveer\, Leiden\, Zuid-Holla
 nd\, Nederland
X-APPLE-STRUCTURED-LOCATION;VALUE=URI;X-ADDRESS=Utrechtseveer\, Leiden\, Zu
 id-Holland\, Nederland;X-APPLE-RADIUS=100;X-TITLE=hoek Plantage-Utrechtse 
 Veer:geo:0,0
END:VEVENT
BEGIN:VTIMEZONE
TZID:Europe/Amsterdam
X-LIC-LOCATION:Europe/Amsterdam
BEGIN:DAYLIGHT
DTSTART:20250330T030000
TZOFFSETFROM:+0100
TZOFFSETTO:+0200
TZNAME:CEST
END:DAYLIGHT
END:VTIMEZONE
END:VCALENDAR