BEGIN:VCALENDAR
VERSION:2.0
PRODID:-//wp-events-plugin.com//7.2.3.1//EN
BEGIN:VEVENT
UID:2192@gildeleiden.nl
DTSTART;TZID=Europe/Amsterdam:20250504T140000
DTEND;TZID=Europe/Amsterdam:20250504T160000
DTSTAMP:20250415T120856Z
URL:https://gildeleiden.nl/wandelingen/bevrijdingswandeling-4-mei/
SUMMARY:Bevrijdingswandeling 4 mei
DESCRIPTION:In het kader van 80 jaar Bevrijding wordt een Bevrijdingswandel
 ing georganiseerd door Gilde Leiden Stadswandelingen. Deze begint op de ho
 ek Plantage-Utrechtse Veer en eindigt op het Kort Rapenburg\; duur ongevee
 r twee uur. De gids volgt de route van de bevrijders op 8 mei 1945 en zal 
 bij veel panden aan die route vertellen over de functies die deze in die t
 ijd hadden\, zoals gaarkeuken of uitdeelpost van voedsel\, huisvesting voo
 r instanties van Duitsers\, NSB\, Binnenlandse Strijdkrachten of Militair 
 Gezag.\n\nData:\nzondag 27 april 11:00 uur\,\nvrijdag 2 mei 11:00 uur\,\nz
 ondag 4 mei 14:00 uur.\nKosten zes euro per persoon (volwassene) contant t
 e voldoen aan de gids.\nAanmelden uitsluitend door op de betreffende datum
  te klikken
LOCATION:hoek Plantage-Utrechtse Veer\, Utrechtseveer\, Leiden\, Zuid-Holla
 nd\, Nederland
X-APPLE-STRUCTURED-LOCATION;VALUE=URI;X-ADDRESS=Utrechtseveer\, Leiden\, Zu
 id-Holland\, Nederland;X-APPLE-RADIUS=100;X-TITLE=hoek Plantage-Utrechtse 
 Veer:geo:0,0
END:VEVENT
BEGIN:VTIMEZONE
TZID:Europe/Amsterdam
X-LIC-LOCATION:Europe/Amsterdam
BEGIN:DAYLIGHT
DTSTART:20250330T030000
TZOFFSETFROM:+0100
TZOFFSETTO:+0200
TZNAME:CEST
END:DAYLIGHT
END:VTIMEZONE
END:VCALENDAR